BEGIN:VCALENDAR
VERSION:2.0
PRODID:-//wp-events-plugin.com//7.2.3.1//EN
TZID:America/New_York
X-WR-TIMEZONE:America/New_York
BEGIN:VEVENT
UID:29@jointherevolution.net
DTSTART;TZID=America/New_York:20181104T190000
DTEND;TZID=America/New_York:20181104T235500
DTSTAMP:20180925T161321Z
URL:https://www.jointherevolution.net/concerts/allen-stone/
SUMMARY:Allen Stone
DESCRIPTION:Singer and songwriter Allen Stone describes himself as "a hippi
 e with soul\," and his music reflects both sides of this formula. His voca
 ls and melodic style show the clear influence of classic soul and R&amp\;B
  of the 1960s and '70s\, while his lyrics reveal an idealism and passion t
 hat recall the folk-inspired singer/songwriters of the same era. He grew u
 p on gospel and Christian music\, and began leading youth worship groups w
 hen he was only 14. He had little exposure to secular music as a child\, b
 ut in his teens\, he developed a taste for classic soul\, and started coll
 ecting vintage R&amp\;B sides\, as well as golden age singer/songwriters. 
 After graduating from high school\, 18-year-old Stone left Chewelah to att
 end junior college in Spokane\; a year later\, he transferred to Bible col
 lege\, but after a single semester he dropped out and relocated to Seattle
 . He began writing songs\, and soon put together a band with a handful of 
 local musicians. Stone and his group became a regular presence on the West
  Coast club scene\, and developed a reputation for powerful live shows as 
 they played up to 200 dates a year. In 2010\, Stone recorded an album call
 ed Last to Speak that he released digitally through his own Stickystones l
 abel.\n\nA second album\, simply titled Allen Stone\, followed in the fall
  of 2011\, and quickly became an independent success story. Online sales t
 ook the album to the top of the online charts\, and it placed on Billboard
 's Heatseekers chart\, all without a formal distribution deal. As Stone an
 d his band played more and bigger shows\, they were invited to appear on C
 onan\, Jimmy Kimmel Live\, and Last Call with Carson Daly. Features on Sto
 ne were also published in Esquire and Billboard. ATO Records signed Stone 
 in 2012\, and reissued his eponymous album in the summer of that year. He 
 then signed to Capitol and worked extensively with fellow singer and songw
 riter Tingsek. The result\, Radius\, featuring the single "Perfect World\,
 " was released in May 2015. The album peaked at number 80 on the Billboard
  200 Chart. A year later\, Stone delivered a deluxe version of the album f
 eaturing seven additional tracks. In 2018\, he released the single "Brown 
 Eyed Lover".
ATTACH;FMTTYPE=image/jpeg:https://www.jointherevolution.net/wp-content/upl
 oads/2018/06/ALLEN-STONE-Revolution.jpg
CATEGORIES:All Ages,Concerts
LOCATION:Revolution Live\, 100 SW 3rd Ave.\, Fort Lauderdale\, FL\, 33312\,
  United States
GEO:26.121358;-80.1461974
X-APPLE-STRUCTURED-LOCATION;VALUE=URI;X-ADDRESS=100 SW 3rd Ave.\, Fort Laud
 erdale\, FL\, 33312\, United States;X-APPLE-RADIUS=100;X-TITLE=Revolution 
 Live:geo:26.121358,-80.1461974
END:VEVENT
BEGIN:VTIMEZONE
TZID:America/New_York
X-LIC-LOCATION:America/New_York
BEGIN:STANDARD
DTSTART:20181104T010000
TZOFFSETFROM:-0400
TZOFFSETTO:-0500
TZNAME:EST
END:STANDARD
END:VTIMEZONE
END:VCALENDAR