BEGIN:VCALENDAR
VERSION:2.0
PRODID:-//wp-events-plugin.com//7.2.3.1//EN
TZID:America/New_York
X-WR-TIMEZONE:America/New_York
BEGIN:VEVENT
UID:291@jointherevolution.net
DTSTART;TZID=America/New_York:20220226T200000
DTEND;TZID=America/New_York:20220226T225500
DTSTAMP:20220119T182417Z
URL:https://www.jointherevolution.net/concerts/badfish-tribute-to-sublime/
SUMMARY:Badfish: A Tribute to Sublime
DESCRIPTION:The phenomenon known as Sublime\, arguably the most energetic\,
  original and uniquely eclectic band to emerge from any scene\, anywhere\,
  ended with the untimely death of lead singer\, guitarist and songwriter B
 rad Nowell. But encompassing the sense of place and purpose long associate
 d with Sublime’s music\, Badfish\, a Tribute to Sublime continues to cha
 nnel the spirit of Sublime with a fury not felt for some time. What separa
 tes Badfish from other tribute bands is that they have replicated Sublime
 ’s essence\, developing a scene and dedicated following most commonly re
 served for label-driven\, mainstream acts. Badfish make their mark on the 
 audience by playing with the spirit of Sublime. They perform not as Sublim
 e would have\, or did\, but as Badfish does.\n&nbsp\;
ATTACH;FMTTYPE=image/jpeg:https://www.jointherevolution.net/wp-content/upl
 oads/2021/11/badfish-feb26-490x490-1.jpg
CATEGORIES:All Ages,Concerts
LOCATION:Revolution Live\, 100 SW 3rd Ave.\, Fort Lauderdale\, FL\, 33312\,
  United States
GEO:26.121358;-80.1461974
X-APPLE-STRUCTURED-LOCATION;VALUE=URI;X-ADDRESS=100 SW 3rd Ave.\, Fort Laud
 erdale\, FL\, 33312\, United States;X-APPLE-RADIUS=100;X-TITLE=Revolution 
 Live:geo:26.121358,-80.1461974
END:VEVENT
BEGIN:VTIMEZONE
TZID:America/New_York
X-LIC-LOCATION:America/New_York
BEGIN:STANDARD
DTSTART:20211107T010000
TZOFFSETFROM:-0400
TZOFFSETTO:-0500
TZNAME:EST
END:STANDARD
END:VTIMEZONE
END:VCALENDAR