BEGIN:VCALENDAR
VERSION:2.0
PRODID:-//wp-events-plugin.com//7.2.3.1//EN
TZID:America/New_York
X-WR-TIMEZONE:America/New_York
BEGIN:VEVENT
UID:624@jointherevolution.net
DTSTART;TZID=America/New_York:20240908T180000
DTEND;TZID=America/New_York:20240908T224500
DTSTAMP:20240908T201648Z
URL:https://www.jointherevolution.net/concerts/badflower/
SUMMARY:Badflower
DESCRIPTION:Badflower aren’t afraid of making anybody uncomfortable. The 
 Los Angeles-bred and Nashville-based quartet—Josh Katz [lead singer\, gu
 itarist]\, Joey Morrow [lead guitar\, backing vocals]\, Alex Espiritu [bas
 s]\, and Anthony Sonetti [drums]—siphon stress\, sleeplessness\, sex\, s
 adness\, mania\, pain\, and truth into revelatory alternative anthems. Aft
 er forming in Los Angeles during 2014\, they dropped two EPs before sendin
 g shockwaves throughout rock with their 2019 full-length debut\, OK\, I’
 M SICK via Big Machine/John Varvatos Records. LoudWire hailed it among the
  “50 Best Rock Albums of 2019\,” while the singles “The Jester\,” 
 “Heroin\,” and “Ghost” vaulted to No. 1 at Rock radio. Not to ment
 ion\, the latter picked up a GOLD certification from the RIAA and was awar
 ded Rock Song of the Year at the iHeartRadio Awards. They’re the rare ac
 t who can ignite a crowd at Kaboo Del Mar or Sonic Temple in addition to s
 haring bills with the likes of Cage the Elephant\, Nothing More\, Shinedow
 n\, Soundgarden\, and more. Thus far\, they’ve also gathered over 100 mi
 llion streams and counting. Meanwhile\, singles “30” and “F*ck The W
 orld” reached Top 5 and Top 10 at Rock radio. Musically\, Katz’s quive
 ring confessions seep into climactic distortion and\, like any good rush\,
  you need more. They deliver this rush on their second full-length offerin
 g\, THIS IS HOW THE WORLD ENDS led by first track “Family.”
ATTACH;FMTTYPE=image/jpeg:https://www.jointherevolution.net/wp-content/upl
 oads/2024/05/REV_BADFLOWER_11X17-copy-scaled.jpg
CATEGORIES:All Ages,Concerts
LOCATION:Revolution Live\, 100 SW 3rd Ave.\, Fort Lauderdale\, FL\, 33312\,
  United States
GEO:26.121358;-80.1461974
X-APPLE-STRUCTURED-LOCATION;VALUE=URI;X-ADDRESS=100 SW 3rd Ave.\, Fort Laud
 erdale\, FL\, 33312\, United States;X-APPLE-RADIUS=100;X-TITLE=Revolution 
 Live:geo:26.121358,-80.1461974
END:VEVENT
BEGIN:VTIMEZONE
TZID:America/New_York
X-LIC-LOCATION:America/New_York
BEGIN:DAYLIGHT
DTSTART:20240310T030000
TZOFFSETFROM:-0500
TZOFFSETTO:-0400
TZNAME:EDT
END:DAYLIGHT
END:VTIMEZONE
END:VCALENDAR