BEGIN:VCALENDAR
VERSION:2.0
PRODID:-//wp-events-plugin.com//7.2.3.1//EN
TZID:America/New_York
X-WR-TIMEZONE:America/New_York
BEGIN:VEVENT
UID:257@jointherevolution.net
DTSTART;TZID=America/New_York:20210807T190000
DTEND;TZID=America/New_York:20210807T190000
DTSTAMP:20210726T202957Z
URL:https://www.jointherevolution.net/concerts/blink-182-duex-a-tribute-to
 -blink-182/
SUMMARY:Blink 180 Deux: A Tribute to Blink 182
DESCRIPTION:   Blink-180 Deux is an Orlando tribute band delivering you t
 he most authentic Blink-182 experience. From their onstage banter to their
  undeniable musicianship\, this local 3-piece promises to make your night 
 one you’ll want to last forever. After conquering the House of Blues: My
 rtle Beach and rocking a SOLD OUT House of Blues: Orlando\, this tribute i
 s ready to take on the world.\n&nbsp\;\n\n\n\nSupport from Riot! A tribute
  to Paramore\n
ATTACH;FMTTYPE=image/jpeg:https://www.jointherevolution.net/wp-content/upl
 oads/2021/06/BLINK_ADMAT-01.png
CATEGORIES:All Ages
END:VEVENT
BEGIN:VTIMEZONE
TZID:America/New_York
X-LIC-LOCATION:America/New_York
BEGIN:DAYLIGHT
DTSTART:20210314T030000
TZOFFSETFROM:-0500
TZOFFSETTO:-0400
TZNAME:EDT
END:DAYLIGHT
END:VTIMEZONE
END:VCALENDAR