BEGIN:VCALENDAR
VERSION:2.0
PRODID:-//wp-events-plugin.com//7.2.3.1//EN
TZID:America/New_York
X-WR-TIMEZONE:America/New_York
BEGIN:VEVENT
UID:488@jointherevolution.net
DTSTART;TZID=America/New_York:20231026T190000
DTEND;TZID=America/New_York:20231026T234500
DTSTAMP:20230515T155319Z
URL:https://www.jointherevolution.net/concerts/chappell-roan/
SUMMARY:Chappell Roan
DESCRIPTION:Bold pop hooks\, sex positivity\, honest songwriting\, and a he
 avy dose of glitter make up the\nworld of Chappell Roan\, the next multi-f
 aceted force in pop music. Through her punchy bangers\nthat combine fantas
 tical narratives and heart-bearing self-reflection\, the LA-based singer\,
 \nsongwriter\, and performer born Kayleigh Rose Amstutz has emerged as the
  rare star who is\nboth larger than life and real as fuck.
CATEGORIES:All Ages,Concerts
LOCATION:Revolution Live\, 100 SW 3rd Ave.\, Fort Lauderdale\, FL\, 33312\,
  United States
GEO:26.121358;-80.1461974
X-APPLE-STRUCTURED-LOCATION;VALUE=URI;X-ADDRESS=100 SW 3rd Ave.\, Fort Laud
 erdale\, FL\, 33312\, United States;X-APPLE-RADIUS=100;X-TITLE=Revolution 
 Live:geo:26.121358,-80.1461974
END:VEVENT
BEGIN:VTIMEZONE
TZID:America/New_York
X-LIC-LOCATION:America/New_York
BEGIN:DAYLIGHT
DTSTART:20230312T030000
TZOFFSETFROM:-0500
TZOFFSETTO:-0400
TZNAME:EDT
END:DAYLIGHT
END:VTIMEZONE
END:VCALENDAR