BEGIN:VCALENDAR
VERSION:2.0
PRODID:-//wp-events-plugin.com//7.2.3.1//EN
TZID:America/New_York
X-WR-TIMEZONE:America/New_York
BEGIN:VEVENT
UID:401@jointherevolution.net
DTSTART;TZID=America/New_York:20221210T220000
DTEND;TZID=America/New_York:20221211T010000
DTSTAMP:20221204T030317Z
URL:https://www.jointherevolution.net/concerts/cyclops-cove-after-party-at
 -revolution-live-at-the-backyard/
SUMMARY:Cyclops Cove After Party at Revolution Live at the Backyard
DESCRIPTION:The Cyclops Cove After Party is bringing Boogie T\, Dirt Monkey
 \, Protohype\, Subdocta\, and Oolacile to Revolution Live at the Backyard 
 on December 10th. This event is 21+. Doors open at 10 pm. All support acts
  are subject to change without notice.
CATEGORIES:21+,Parties
LOCATION:Revolution Live\, 100 SW 3rd Ave.\, Fort Lauderdale\, FL\, 33312\,
  United States
GEO:26.121358;-80.1461974
X-APPLE-STRUCTURED-LOCATION;VALUE=URI;X-ADDRESS=100 SW 3rd Ave.\, Fort Laud
 erdale\, FL\, 33312\, United States;X-APPLE-RADIUS=100;X-TITLE=Revolution 
 Live:geo:26.121358,-80.1461974
END:VEVENT
BEGIN:VTIMEZONE
TZID:America/New_York
X-LIC-LOCATION:America/New_York
BEGIN:STANDARD
DTSTART:20221106T010000
TZOFFSETFROM:-0400
TZOFFSETTO:-0500
TZNAME:EST
END:STANDARD
END:VTIMEZONE
END:VCALENDAR