BEGIN:VCALENDAR
VERSION:2.0
PRODID:-//wp-events-plugin.com//7.2.3.1//EN
TZID:America/New_York
X-WR-TIMEZONE:America/New_York
BEGIN:VEVENT
UID:833@jointherevolution.net
DTSTART;TZID=America/New_York:20260509T210000
DTEND;TZID=America/New_York:20260510T030000
DTSTAMP:20260308T034947Z
URL:https://www.jointherevolution.net/concerts/house-party-2010s-rager/
SUMMARY:House Party 2010s Rager
DESCRIPTION:The chaos and thrill of a 2010s rager. Louder\, sweatier\, and 
 no neighbors to shut it down.\n\nMid-2000s anthems\, bloghouse\, your skin
 niest jeans\, and the kind of night that feels like it’s happening in a 
 thousand blurry photos. The soundtrack? LMFAO\, Skrillex\, A$AP Rocky\, Sw
 edish House Mafia\, Passion Pit\, Rihanna\, MGMT + more. The soundtrack of
  nights you wish you could remember. (Or maybe forget.)\n\nShutter shades.
  Neon bracelets. Disposable cameras. A little reckless\, but never forced.
  This isn’t nostalgia. This is muscle memory.
ATTACH;FMTTYPE=image/jpeg:https://www.jointherevolution.net/wp-content/upl
 oads/2026/03/may-9th-ft-lauderdale-art.jpg
CATEGORIES:21+,Parties
LOCATION:Revolution Live\, 100 SW 3rd Ave.\, Fort Lauderdale\, FL\, 33312\,
  United States
GEO:26.121358;-80.1461974
X-APPLE-STRUCTURED-LOCATION;VALUE=URI;X-ADDRESS=100 SW 3rd Ave.\, Fort Laud
 erdale\, FL\, 33312\, United States;X-APPLE-RADIUS=100;X-TITLE=Revolution 
 Live:geo:26.121358,-80.1461974
END:VEVENT
BEGIN:VTIMEZONE
TZID:America/New_York
X-LIC-LOCATION:America/New_York
BEGIN:DAYLIGHT
DTSTART:20260308T030000
TZOFFSETFROM:-0500
TZOFFSETTO:-0400
TZNAME:EDT
END:DAYLIGHT
END:VTIMEZONE
END:VCALENDAR