BEGIN:VCALENDAR
VERSION:2.0
PRODID:-//wp-events-plugin.com//7.2.3.1//EN
TZID:America/New_York
X-WR-TIMEZONE:America/New_York
BEGIN:VEVENT
UID:185@jointherevolution.net
DTSTART;TZID=America/New_York:20200103T200000
DTEND;TZID=America/New_York:20200103T233000
DTSTAMP:20191216T192055Z
URL:https://www.jointherevolution.net/concerts/in-the-end-tribute-to-linki
 n-park/
SUMMARY:In The End - Tribute to Linkin Park
DESCRIPTION:Founded with love and respect for the music of Linkin Park\, IN
  THE END creates a live show experience that is second to none. In The End
 ’s members are veterans of the music industry\, and have performed on so
 me of the biggest stages in the world including The Tonight Show\, Jimmy K
 immel Live\, Coachella\, Lollapalooza\, Rock Am Ring\, and many more. Thei
 r production can be tailored to fit any size venue\, from an intimate club
  or theater show to a full-blown festival main stage performance. Every ti
 me they step on stage their goals are to honor the life and legacy of Ches
 ter Bennington\, raise awareness for the campaigns that LP started such as
  Music For Relief or 320ChangesDirection\, and celebrate life together wit
 h the worldwide family of Linkin Park fans.
CATEGORIES:All Ages,Concerts
LOCATION:Revolution Live\, 100 SW 3rd Ave.\, Fort Lauderdale\, FL\, 33312\,
  United States
GEO:26.121358;-80.1461974
X-APPLE-STRUCTURED-LOCATION;VALUE=URI;X-ADDRESS=100 SW 3rd Ave.\, Fort Laud
 erdale\, FL\, 33312\, United States;X-APPLE-RADIUS=100;X-TITLE=Revolution 
 Live:geo:26.121358,-80.1461974
END:VEVENT
BEGIN:VTIMEZONE
TZID:America/New_York
X-LIC-LOCATION:America/New_York
BEGIN:STANDARD
DTSTART:20191103T010000
TZOFFSETFROM:-0400
TZOFFSETTO:-0500
TZNAME:EST
END:STANDARD
END:VTIMEZONE
END:VCALENDAR