BEGIN:VCALENDAR
VERSION:2.0
PRODID:-//wp-events-plugin.com//7.2.3.1//EN
TZID:America/New_York
X-WR-TIMEZONE:America/New_York
BEGIN:VEVENT
UID:197@jointherevolution.net
DTSTART;TZID=America/New_York:20200228T190000
DTEND;TZID=America/New_York:20200228T235900
DTSTAMP:20200219T173105Z
URL:https://www.jointherevolution.net/concerts/jacquees/
SUMMARY:Jacquees
DESCRIPTION:It felt like a royal declaration.\n \nWhen Jacquees proclaim
 ed himself “King of R&amp\;B…of his generation\,” he did so with t
 he accolades and achievements to back up such a bold\, brave\, and big cla
 im.\n \nWithin six years since the release of his independent breakout mi
 x-tape Round of Applause\, the Atlanta singer quietly ascended to the gen
 re’s vacant throne over the course of a banner 2018 and 2019. During tha
 t time\, his critically acclaimed full-length debut for Cash Money Records
 \, 4275\, earned a platinum smash in the form of “B.E.D.”—which al
 so received a nomination for “R&amp\;B Song of the Year” at the iHeart
 Radio Music Awards—as the follow-up single“You” went gold. Plus\, 
 it maintained his heat\, standing out as his second most-streamed song\, n
 earing 100 million total streams by 2019. Not to mention\, the latter serv
 ed as a staple from the Documentary Soundtrack for Before Anythang and
  Lost At Sea II—his collaborative project withBirdman. He joined force
 s with Dej Loaf for the dynamic duet “At The Club\,” which feature
 d in Before Anythang as well and put up another 50 million Spotify strea
 ms. Plus\, he lent his voice to TK Kravitz’s gold-selling “Ocean\,
 ” extending his influence throughout the game.\n \nIn the midst of se
 lling out headline tour dates coast to coast\, he turned up at the Soul T
 rain Awards with a show-stopping performance. He delivered a standout se
 t for his first national televised show\, turning heads in the process and
  bringing the crowd to its feet. Praise echoed from the likes of Vibe\,
  Spin\, Complex\, Rap-Up\, Rated RnB\, and many more. In addition to l
 ending his voice to bangers by everyone from Young Thug to Snoop Dogg 
 to Chris Brownto Trey Songz\, he contributed “Save The Day”featurin
 g Coi Leray and LouGotCash to the Original Soundtrack for the blockbus
 ter Academy Award® winner\, Spider-Man: Into the Spider-Verse. Averaging
  over 5.1 monthly listeners on Spotify\, his total stream tally on the pla
 tform approached half-a-billion by 2019. As he took over Urban Radio\, h
 e maintained a prolific recording pace\, paving the way for the arrival of
  his 2019 sophomore offering\, King Of R&amp\;B.\n \n“The first round 
 was 4275 as my debut\, and I took it like a fight\, because I call mysel
 f ‘King of R&amp\;B’\,” he explains. “Everybody took it the wrong
  way—or however they want to take it. Just like a boxer\, anybody in a f
 ight\, or in any other type of competition\, there are rounds\, so I’m p
 roving a point. This is King Of R&amp\;B for me. I’m up against a figh
 t\, because there are a lot of doubters. There are a lot of people who bel
 ieve in me\, but there are a lot of people who don't.”\n \nThe multi-pl
 atinum star introduced the project with the hypnotic and hook-heavy “Yo
 ur Peace”featuring Lil Baby.  Amassing over 90 million cumulative stre
 ams\, the track highlighted his mile-wide range and uncontainable charm be
 tween bars courtesy of Atlanta rapper Lil Baby. Hot on its heels\,“Who
 ” saw Jacquees once again flex those powerhouse pipes on top of slick
  and sultry production\, delivering another undeniable anthem in the proce
 ss and increasing anticipation.\n \nAs a whole\, the album speaks to his
  uncanny talent to not only channel eighties and nineties R&amp\;B\, but a
 lso to put his own signature spin on the genre. Over a simmering beat\, he
  settles into a hypnotic back-and-forth with Bluff City during the fiery
  “All You Need.” Elsewhere\, soft piano underscores the confessional
  “Cross The Line” as he admits\,“Everybody knows it’s my fault\,
 ” with an impressive vocal crescendo.  “Fact or Fiction\,” garne
 rs command\, with his falsetto vocals underneath a jazzy guitar sound.  T
 he bonus track “Verify” unites him with frequent collaborator Young
  Thug and fellow YSL cohort Gunna above acoustic guitar as these thre
 e Atlanta icons deliver a once-in-a-lifetime banger.\n \nKing Of R&amp\;B
  sees Jacquees land a knockout for R&amp\;B and once again affirm his p
 osition as “King of R&amp\;B…of his generation.”
CATEGORIES:All Ages,Concerts
LOCATION:Revolution Live\, 100 SW 3rd Ave.\, Fort Lauderdale\, FL\, 33312\,
  United States
GEO:26.121358;-80.1461974
X-APPLE-STRUCTURED-LOCATION;VALUE=URI;X-ADDRESS=100 SW 3rd Ave.\, Fort Laud
 erdale\, FL\, 33312\, United States;X-APPLE-RADIUS=100;X-TITLE=Revolution 
 Live:geo:26.121358,-80.1461974
END:VEVENT
BEGIN:VTIMEZONE
TZID:America/New_York
X-LIC-LOCATION:America/New_York
BEGIN:STANDARD
DTSTART:20191103T010000
TZOFFSETFROM:-0400
TZOFFSETTO:-0500
TZNAME:EST
END:STANDARD
END:VTIMEZONE
END:VCALENDAR