BEGIN:VCALENDAR
VERSION:2.0
PRODID:-//wp-events-plugin.com//7.2.3.1//EN
TZID:America/New_York
X-WR-TIMEZONE:America/New_York
BEGIN:VEVENT
UID:754@jointherevolution.net
DTSTART;TZID=America/New_York:20251129T190000
DTEND;TZID=America/New_York:20251129T230000
DTSTAMP:20251118T203605Z
URL:https://www.jointherevolution.net/concerts/marina-satti-pop-tour/
SUMMARY:Marina Satti - POP TOUR
DESCRIPTION:Singer\, songwriter and music producer Marina Satti was born in
  Athens\, Greece to a Sudanese father and Cretan mother.\n\nMarina graduat
 ed in classical piano\, advanced music theory and classical singing\, befo
 re receiving a scholarship from the internationally acclaimed Berklee Coll
 ege of Music. At Berklee\, she studied orchestration\, production and jazz
 \, while working with renowned artists\, such as Danilo Perez and Jamie Ha
 ddad\, among others. She has developed a unique sound that combines the di
 fferent musical traditions she grew up with\, such as Greek\, Arabic and B
 alkan with urban elements and rhythm.\n\nFollowing the release of her debu
 t album “YENNA” (2022)\, Marina released “TUCUTUM” (2023): a Greek
  song which went viral\, with humorous references to the Balkan trap trend
 s. She was later signed by Golden Records and Minos EMI\, a Universal Musi
 c Company. Marina Satti represented Greece in the Eurovision Song Contest 
 2024 with the Diamond Certified by IFPI single“ZARI”\, which is also t
 he first Greek song charting at No. 17 on the Global Viral Spotify Chart. 
 Her album"P.O.P." (2024) charted #8 Top Albums Debut Global on Spotify and
  #10 at Top Albums Debut UK on Spotify. Marina recently released two viral
  hits\, Anatoli (2024) and EPANO STO TRAPEZI (2025)\, which are singles of
  her upcoming album set to be released in Q2.\n\n \n\n&nbsp\;
ATTACH;FMTTYPE=image/jpeg:https://www.jointherevolution.net/wp-content/upl
 oads/2025/05/Static_Social-Instagram_1080x1350_MarinaSanti_RevolutionLive_
 1129-2.jpg
CATEGORIES:All Ages,Concerts
LOCATION:Revolution Live\, 100 SW 3rd Ave.\, Fort Lauderdale\, FL\, 33312\,
  United States
GEO:26.121358;-80.1461974
X-APPLE-STRUCTURED-LOCATION;VALUE=URI;X-ADDRESS=100 SW 3rd Ave.\, Fort Laud
 erdale\, FL\, 33312\, United States;X-APPLE-RADIUS=100;X-TITLE=Revolution 
 Live:geo:26.121358,-80.1461974
END:VEVENT
BEGIN:VTIMEZONE
TZID:America/New_York
X-LIC-LOCATION:America/New_York
BEGIN:STANDARD
DTSTART:20251102T010000
TZOFFSETFROM:-0400
TZOFFSETTO:-0500
TZNAME:EST
END:STANDARD
END:VTIMEZONE
END:VCALENDAR