BEGIN:VCALENDAR
VERSION:2.0
PRODID:-//wp-events-plugin.com//7.2.3.1//EN
TZID:America/New_York
X-WR-TIMEZONE:America/New_York
BEGIN:VEVENT
UID:800@jointherevolution.net
DTSTART;TZID=America/New_York:20260221T190000
DTEND;TZID=America/New_York:20260221T230000
DTSTAMP:20251028T174535Z
URL:https://www.jointherevolution.net/concerts/monaleo-who-did-the-body-to
 ur/
SUMMARY:Monaleo - Who Did The Body Tour
DESCRIPTION:Monaleo\, the unapologetic force from Houston\, Texas\, has qui
 ckly become one of hip-hop’s most compelling new voices. At 24\, she’s
  captivated listeners and critics alike with her fearless lyricism\, bold 
 femininity\, and undeniable charisma. Her breakout hit “Beating Down Yo 
 Block” reimagined Yungstar’s 1999 Houston classic into a post-breakup 
 anthem that resonated across generations\, earning RIAA Gold certification
 \, over 34 million YouTube views\, and cemented her as a rising star.\nMus
 ic has always been a cornerstone for Monaleo\, whose earliest performances
  took place in her church choir under her grandmother’s encouragement. B
 y age seven\, she taught herself to play piano\, channeling her creativity
  into a natural talent for melody and expression. In 2024 her viral sensat
 ion “Don Who Leo” inspired more than 3.7 million TikTok creations\, pe
 aked at #16 on Tik Tok Billboard Charts. A commanding presence on stage\, 
 Monaleo joined Don Toliver\, Ski Mask the Slump God\, and Molly Santana on
  a sold-out arena tour\, sharing her electrifying artistry with thousands 
 of fans and further solidifying her place in the cultural conversation.\n\
 nNow with over 141 million all time YouTube views and 371.5M all-time stre
 ams\, Monaleo has firmly established herself as one of rap’s most dynami
 c lyricists. Recognized by outlets like Rolling Stone\, Pitchfork\, XXL\, 
 Teen Vogue\, and Billboard\, her widespread acclaim reflects her relatabil
 ity\, creative versatility\, and unmistakable talent. With every release\,
  Monaleo continues to redefine what it means to be a rising star\, and her
  trajectory only points upward.\n\nThis fall\, she enters a darker\, more 
 cinematic chapter with her upcoming project “Who Did the Body?”. The p
 roject channels her fascination with the afterlife layered with Southern G
 othic influence\, ancestral ties\, and her ongoing studies in mortuary sci
 ence. Fearless\, creative\, and unafraid to dig deep\, Monaleo continues t
 o push Southern rap forward while staying true to the girly bravado her fa
 ns know and love.
ATTACH;FMTTYPE=image/jpeg:https://www.jointherevolution.net/wp-content/upl
 oads/2025/10/Static_Social-Instagram_1080x1350_Monaleo_RevolutionLive_0221
 .jpeg
CATEGORIES:All Ages,Concerts
LOCATION:Revolution Live\, 100 SW 3rd Ave.\, Fort Lauderdale\, FL\, 33312\,
  United States
GEO:26.121358;-80.1461974
X-APPLE-STRUCTURED-LOCATION;VALUE=URI;X-ADDRESS=100 SW 3rd Ave.\, Fort Laud
 erdale\, FL\, 33312\, United States;X-APPLE-RADIUS=100;X-TITLE=Revolution 
 Live:geo:26.121358,-80.1461974
END:VEVENT
BEGIN:VTIMEZONE
TZID:America/New_York
X-LIC-LOCATION:America/New_York
BEGIN:STANDARD
DTSTART:20251102T010000
TZOFFSETFROM:-0400
TZOFFSETTO:-0500
TZNAME:EST
END:STANDARD
END:VTIMEZONE
END:VCALENDAR