BEGIN:VCALENDAR
VERSION:2.0
PRODID:-//wp-events-plugin.com//7.2.3.1//EN
TZID:America/New_York
X-WR-TIMEZONE:America/New_York
BEGIN:VEVENT
UID:35@jointherevolution.net
DTSTART;TZID=America/New_York:20180922T190000
DTEND;TZID=America/New_York:20180922T232500
DTSTAMP:20180920T154831Z
URL:https://www.jointherevolution.net/concerts/noah-cyrus/
SUMMARY:Noah Cyrus
DESCRIPTION:Platinum-selling artist Noah Cyrus will embark on her first-eve
 r headlining run this fall across the U.S. and Canada - The Good Cry Tour!
  "I’ve been waiting for such a long time to travel and see my fans who h
 ave been supporting me the last couple of years. I can’t wait for them t
 o come experience this sad girl’s dream world. We’re either gonna danc
 e or cry the night away\,” exclaimed Cyrus.\nJust last year\, the 18-yea
 r old rising pop star opened for Katy Perry on her U.S. tour and she recen
 tly sold out her first Los Angeles headline show at the Troubadour in mere
  minutes. Cyrus once again made an appearance at Coachella in 2018 for the
  second year in a row\, this time joining Alan Walker for “All Falls Dow
 n.”\nCyrus is continuing her stream of releasing eclectic pop tracks\, a
 nd recently shared an intimate duet with her boyfriend Tanner Alexander\, 
 titled “Lately.” This song follows “Team\,” Cyrus’ duet with MAX
  which continues to grow at Top 40 Radio. Wonderland Magazine recently not
 ed how Cyrus has become known for “penning honest pop bops as an ode to 
 her independence\,” and these newest track falls in line.\nCyrus’ star
  began to shine in 2017\, as her debut single with Labrinth “Make Me (Cr
 y)” went straight to #1 on Spotify’s Viral Global Chart within hours o
 f release and has since surpassed 500 million global audio and video strea
 ms. Her follow up songs have all continued to rack up streams and views\, 
 while her budding fanbase grows daily. Her forthcoming album is due later 
 this year on RECORDS/Columbia.
ATTACH;FMTTYPE=image/jpeg:https://www.jointherevolution.net/wp-content/upl
 oads/2018/07/NOAHCYRUS_ADMAT_COLOR.jpg
CATEGORIES:All Ages,Concerts
LOCATION:Revolution Live\, 100 SW 3rd Ave.\, Fort Lauderdale\, FL\, 33312\,
  United States
GEO:26.121358;-80.1461974
X-APPLE-STRUCTURED-LOCATION;VALUE=URI;X-ADDRESS=100 SW 3rd Ave.\, Fort Laud
 erdale\, FL\, 33312\, United States;X-APPLE-RADIUS=100;X-TITLE=Revolution 
 Live:geo:26.121358,-80.1461974
END:VEVENT
BEGIN:VTIMEZONE
TZID:America/New_York
X-LIC-LOCATION:America/New_York
BEGIN:DAYLIGHT
DTSTART:20180311T030000
TZOFFSETFROM:-0500
TZOFFSETTO:-0400
TZNAME:EDT
END:DAYLIGHT
END:VTIMEZONE
END:VCALENDAR