BEGIN:VCALENDAR
VERSION:2.0
PRODID:-//wp-events-plugin.com//7.2.3.1//EN
TZID:America/New_York
X-WR-TIMEZONE:America/New_York
BEGIN:VEVENT
UID:671@jointherevolution.net
DTSTART;TZID=America/New_York:20241108T223000
DTEND;TZID=America/New_York:20241109T023000
DTSTAMP:20240911T225419Z
URL:https://www.jointherevolution.net/concerts/party-iconic-presents-charl
 i-parti-b2b-club-classics/
SUMMARY:party iconic presents: charli parti b2b club classics
DESCRIPTION:
ATTACH;FMTTYPE=image/jpeg:https://www.jointherevolution.net/wp-content/upl
 oads/2024/09/BNET8079-_CHARLI_Fri8Nov24-Fort-Lauderdale-Revolution-LiveVER
 TICAL-2.jpeg
CATEGORIES:21+,Concerts
END:VEVENT
BEGIN:VTIMEZONE
TZID:America/New_York
X-LIC-LOCATION:America/New_York
BEGIN:STANDARD
DTSTART:20241103T010000
TZOFFSETFROM:-0400
TZOFFSETTO:-0500
TZNAME:EST
END:STANDARD
END:VTIMEZONE
END:VCALENDAR