BEGIN:VCALENDAR
VERSION:2.0
PRODID:-//wp-events-plugin.com//7.2.3.1//EN
TZID:America/New_York
X-WR-TIMEZONE:America/New_York
BEGIN:VEVENT
UID:461@jointherevolution.net
DTSTART;TZID=America/New_York:20230602T190000
DTEND;TZID=America/New_York:20230602T234500
DTSTAMP:20230601T191649Z
URL:https://www.jointherevolution.net/concerts/peezy/
SUMMARY:Peezy
DESCRIPTION:After more than a decade of grinding\, Detroit’s Peezy has am
 assed a devoted following who can relate to his drive and perseverance. On
 ce marred by legal woes and cutthroat streets\, Peezy finally enjoys the a
 ccolades and success he worked so hard for. More than two dozen songs and 
 videos with streams in the millions are evidence of an artist who helped b
 ring the spotlight back to the D without compromising his sound or reality
 -based message. 2022’s Only Built 4 Diamond Links is a testament to his 
 love of music and how Peezy uses pressure to his advantage. The album feat
 ures G Herbo and Mozzy\, and shows Peezy’s time to shine. Recent loosie 
 “2 Million Up\, has trended on YouTube\, with 5 million views in a month
 . Album cuts like “Shopping Spree\,” “Ratchet\,” and “Wedding Ri
 ng” speak to a dedicated female fanbase. The album’s intro is straight
  from Peezy’s “No Hook” playbook. Peezy has become\, for others\, th
 e role model that he never had growing up. “I have supreme confidence in
  myself\, ‘cause I’ve never lost when I bet on myself. I know this alb
 um is the one.”
CATEGORIES:All Ages,Concerts
LOCATION:Revolution Live\, 100 SW 3rd Ave.\, Fort Lauderdale\, FL\, 33312\,
  United States
GEO:26.121358;-80.1461974
X-APPLE-STRUCTURED-LOCATION;VALUE=URI;X-ADDRESS=100 SW 3rd Ave.\, Fort Laud
 erdale\, FL\, 33312\, United States;X-APPLE-RADIUS=100;X-TITLE=Revolution 
 Live:geo:26.121358,-80.1461974
END:VEVENT
BEGIN:VTIMEZONE
TZID:America/New_York
X-LIC-LOCATION:America/New_York
BEGIN:DAYLIGHT
DTSTART:20230312T030000
TZOFFSETFROM:-0500
TZOFFSETTO:-0400
TZNAME:EDT
END:DAYLIGHT
END:VTIMEZONE
END:VCALENDAR