BEGIN:VCALENDAR
VERSION:2.0
PRODID:-//wp-events-plugin.com//7.2.3.1//EN
TZID:America/New_York
X-WR-TIMEZONE:America/New_York
BEGIN:VEVENT
UID:228@jointherevolution.net
DTSTART;TZID=America/New_York:20220709T190000
DTEND;TZID=America/New_York:20220709T235500
DTSTAMP:20220516T223503Z
URL:https://www.jointherevolution.net/concerts/purityring/
SUMMARY:P U R I T Y R I N G
DESCRIPTION:After more than five years\, Purity Ring have returned to annou
 nce their third album. WOMB will be released on April 3rd via 4AD and is
  entirely produced and recorded by the duo of Megan James and Corin Roddic
 k.WOMB chronicles a quest for comfort and the search for a resting place.
  Lead single ‘stardew’\, released today\, is a glittering\, transcend
 ent invitation to “just be where you are” – to experience the kind o
 f powerful peace that can only be found by truly coming home.\n---\nToday\
 , Purity Ring release the abstract and captivatingly enigmatic video for t
 he track “sinew” from their third studio album\, directed by Toby Stre
 tch. Along with the video\, the duo confirms their rescheduled tour dates 
 across the US\, UK and Europe for fall 2021.\nThe track “sinew” from t
 he duo’s latest LP WOMB\, was praised as “dizzying” by PopMatters wi
 th Paste saying the track is “Purity Ring at their best.” WOMB was pra
 ised as a “crystalline rush of adrenaline” by The FADER and debuted #1
  on Billboard’s electronic chart last year. \n[embed]https://www.youtub
 e.com/watch?v=q2GgZ6F4-oc[/embed]\nFollowing its release\, WOMB reached th
 e top 20 on seven Billboard charts. The ten songs are entirely written\, r
 ecorded\, produced and mixed by the duo of Megan James and Corin Roddick\,
  and the album chronicles a quest for comfort and the search for a resting
  place in a world where so much is beyond our control.
ATTACH;FMTTYPE=image/jpeg:https://www.jointherevolution.net/wp-content/upl
 oads/2021/03/PurityRing_Admat.png
CATEGORIES:All Ages,Concerts
LOCATION:Revolution Live\, 100 SW 3rd Ave.\, Fort Lauderdale\, FL\, 33312\,
  United States
GEO:26.121358;-80.1461974
X-APPLE-STRUCTURED-LOCATION;VALUE=URI;X-ADDRESS=100 SW 3rd Ave.\, Fort Laud
 erdale\, FL\, 33312\, United States;X-APPLE-RADIUS=100;X-TITLE=Revolution 
 Live:geo:26.121358,-80.1461974
END:VEVENT
BEGIN:VTIMEZONE
TZID:America/New_York
X-LIC-LOCATION:America/New_York
BEGIN:DAYLIGHT
DTSTART:20220313T030000
TZOFFSETFROM:-0500
TZOFFSETTO:-0400
TZNAME:EDT
END:DAYLIGHT
END:VTIMEZONE
END:VCALENDAR