BEGIN:VCALENDAR
VERSION:2.0
PRODID:-//wp-events-plugin.com//7.2.3.1//EN
TZID:America/New_York
X-WR-TIMEZONE:America/New_York
BEGIN:VEVENT
UID:783@jointherevolution.net
DTSTART;TZID=America/New_York:20251028T190000
DTEND;TZID=America/New_York:20251028T230000
DTSTAMP:20251027T153131Z
URL:https://www.jointherevolution.net/concerts/rob49-life-of-da-party-tour
 /
SUMMARY:Rob49: Let Me Fly Tour
DESCRIPTION:The Let Me Fly tour is cancelled due to unforeseen circumstanc
 es. Refunds are available at point of purchase. All tickets purchased onli
 ne with a credit or debit card will be refunded automatically.
ATTACH;FMTTYPE=image/jpeg:https://www.jointherevolution.net/wp-content/upl
 oads/2025/07/Static_Social-Instagram_1080x1350_Rob49_2025_Regional_Revolut
 ionLive_1028.jpg
CATEGORIES:All Ages,Concerts
LOCATION:Revolution Live\, 100 SW 3rd Ave.\, Fort Lauderdale\, FL\, 33312\,
  United States
GEO:26.121358;-80.1461974
X-APPLE-STRUCTURED-LOCATION;VALUE=URI;X-ADDRESS=100 SW 3rd Ave.\, Fort Laud
 erdale\, FL\, 33312\, United States;X-APPLE-RADIUS=100;X-TITLE=Revolution 
 Live:geo:26.121358,-80.1461974
END:VEVENT
BEGIN:VTIMEZONE
TZID:America/New_York
X-LIC-LOCATION:America/New_York
BEGIN:DAYLIGHT
DTSTART:20250309T030000
TZOFFSETFROM:-0500
TZOFFSETTO:-0400
TZNAME:EDT
END:DAYLIGHT
END:VTIMEZONE
END:VCALENDAR