BEGIN:VCALENDAR
VERSION:2.0
PRODID:-//wp-events-plugin.com//7.2.3.1//EN
TZID:America/New_York
X-WR-TIMEZONE:America/New_York
BEGIN:VEVENT
UID:553@jointherevolution.net
DTSTART;TZID=America/New_York:20240106T190000
DTEND;TZID=America/New_York:20240106T230000
DTSTAMP:20231024T161859Z
URL:https://www.jointherevolution.net/concerts/saved-by-the-90s-9/
SUMMARY:Saved By The 90s
DESCRIPTION:Cowabunga\, dudes!\n\nThe 21st century is sooo overrated\, but 
 you know what's ALL THAT? The SAVED BY THE 90s PARTY! Boo Ya! Hailing orig
 inally from New York City and now active all over the U.S.\, this party ha
 s tons of live 90s music from a totally fresh band (they're da bomb). Get 
 ready for everything from Third Eye Blind to the Spice Girls\, from The Ba
 ckstreet Boys to The Beastie Boys. And after that\, we're not leaving you 
 hangin'! As if! Get jiggy with the DJ spinning dope tunes all night.\n\nIt
 's gonna be the raddest thing since Your Mom!
ATTACH;FMTTYPE=image/jpeg:https://www.jointherevolution.net/wp-content/upl
 oads/2023/10/REV_90_4x6-.jpg
CATEGORIES:All Ages,Concerts
LOCATION:Revolution Live\, 100 SW 3rd Ave.\, Fort Lauderdale\, FL\, 33312\,
  United States
GEO:26.121358;-80.1461974
X-APPLE-STRUCTURED-LOCATION;VALUE=URI;X-ADDRESS=100 SW 3rd Ave.\, Fort Laud
 erdale\, FL\, 33312\, United States;X-APPLE-RADIUS=100;X-TITLE=Revolution 
 Live:geo:26.121358,-80.1461974
END:VEVENT
BEGIN:VTIMEZONE
TZID:America/New_York
X-LIC-LOCATION:America/New_York
BEGIN:STANDARD
DTSTART:20231105T010000
TZOFFSETFROM:-0400
TZOFFSETTO:-0500
TZNAME:EST
END:STANDARD
END:VTIMEZONE
END:VCALENDAR