BEGIN:VCALENDAR
VERSION:2.0
PRODID:-//wp-events-plugin.com//7.2.3.1//EN
TZID:America/New_York
X-WR-TIMEZONE:America/New_York
BEGIN:VEVENT
UID:117@jointherevolution.net
DTSTART;TZID=America/New_York:20190810T190000
DTEND;TZID=America/New_York:20190810T230000
DTSTAMP:20190506T143828Z
URL:https://www.jointherevolution.net/concerts/the-u-s-stones-the-american
 -rolling-stones-tribute/
SUMMARY:The U.S. Stones - The American Rolling Stones Tribute
DESCRIPTION:The U.S. Stones are the American Rolling Stones Tribute Band! W
 ith Doug Baird and Eric Anderson both portraying ‘young in their prime
 ’ Mick Jagger and Keith Richards. The U.S. Stones not only captures the 
 looks\, moves and style of the Rolling Stones but also fully recreates the
  Stones concert experience.\n\nA 6 piece band augmented with percussion\, 
 horns\, and backing vocals. This is as real as it gets. High energy and th
 e ability to reproduce the persona of each member with mannerism\, authent
 ic gear and stage outfits allows the U.S. Stones to bring the look\, feel 
 and swagger to the stage!\n\nFrom late 2012 onwards\, the U.S. Stones has 
 to played to over an estimated audience of 125\,000+ people. And that's ju
 st from their large open air festival dates throughout the United States a
 lone! And it’s not going to stop there. The U.S. Stones continues to att
 ract a large following of fans wherever they go!\n\nFor the die hard Stone
 s fans\, this is their chance to go back in time and relive the Rolling St
 ones at their peak. For the new generations of Stones fans\, this will be 
 the perfect history lesson on the ‘World’s Greatest Rock and Roll Band
 ’!\n\nYou can’t always get what you want\, but with the U.S. Stones\, 
 you get what you need!
CATEGORIES:All Ages,Concerts
LOCATION:Revolution Live\, 100 SW 3rd Ave.\, Fort Lauderdale\, FL\, 33312\,
  United States
GEO:26.121358;-80.1461974
X-APPLE-STRUCTURED-LOCATION;VALUE=URI;X-ADDRESS=100 SW 3rd Ave.\, Fort Laud
 erdale\, FL\, 33312\, United States;X-APPLE-RADIUS=100;X-TITLE=Revolution 
 Live:geo:26.121358,-80.1461974
END:VEVENT
BEGIN:VTIMEZONE
TZID:America/New_York
X-LIC-LOCATION:America/New_York
BEGIN:DAYLIGHT
DTSTART:20190310T030000
TZOFFSETFROM:-0500
TZOFFSETTO:-0400
TZNAME:EDT
END:DAYLIGHT
END:VTIMEZONE
END:VCALENDAR