BEGIN:VCALENDAR
VERSION:2.0
PRODID:-//wp-events-plugin.com//7.2.3.1//EN
TZID:America/New_York
X-WR-TIMEZONE:America/New_York
BEGIN:VEVENT
UID:64@jointherevolution.net
DTSTART;TZID=America/New_York:20190310T190000
DTEND;TZID=America/New_York:20190310T230000
DTSTAMP:20181024T221407Z
URL:https://www.jointherevolution.net/concerts/travis-greene/
SUMMARY:Travis Greene
DESCRIPTION:Travis Greene reaches hearts worldwide as an inspirational trai
 lblazer who engages culture.\n\nGrowing up with a mother who was a ministe
 r and choir director\, Travis Greene says that gospel music “was like ox
 ygen in our house\, always part of my life\,” and no artist inspired him
  and strengthened his passion for God more than 12-time Grammy winning leg
 end Kirk Franklin. Now an inspirational trailblazer in his own right\, Gre
 ene’s masterful fusion of music and ministry these past few years prompt
 ed Franklin to anoint him as one of the artists who are the “future of g
 ospel music.” Continuing on his global mission to “bring the cool back
  to the worship experience\, and get people\, especially the unchurched\, 
 excited\,” the two time Grammy nominee debuted at #1 on the Billboard To
 p Gospel Albums chart with his latest album Crossover: Live From Music Cit
 y. Its lead single “You Waited” hit #1 on the Hot Gospel Songs chart.\
 n\nWhile most artists create live albums of concerts featuring their best 
 loved hits\, Greene – who launched his recording career with the indepen
 dent release The More in 2007 – prefers the synergy that comes from shar
 ing fresh material with eager audiences. Like its predecessor\, Crossover:
  Live from Music City is an opportunity for longtime and new fans alike to
  partake in an experience that brilliantly captures the artist’s passion
 \, excitement and charisma onstage -- and his ability to reach hearts with
  the gospel through music.\n\n“At the end of the day\,” he adds\, “I
  simply want music to be my vehicle to inspire people and make them feel r
 ight about choosing God. I want to use these opportunities to encourage pe
 ople\, and maybe in the process help redefine the way Christianity looks i
 n our contemporary culture and reveal God in a different way. I’m really
  excited to raise up the next wave of worshipers and those called to share
  the love of God through music. I want to be part of helping carry the tor
 ch into the future.”
ATTACH;FMTTYPE=image/jpeg:https://www.jointherevolution.net/wp-content/upl
 oads/2018/10/Fort-Lauderdale.jpg
CATEGORIES:All Ages,Concerts
LOCATION:Revolution Live\, 100 SW 3rd Ave.\, Fort Lauderdale\, FL\, 33312\,
  United States
GEO:26.121358;-80.1461974
X-APPLE-STRUCTURED-LOCATION;VALUE=URI;X-ADDRESS=100 SW 3rd Ave.\, Fort Laud
 erdale\, FL\, 33312\, United States;X-APPLE-RADIUS=100;X-TITLE=Revolution 
 Live:geo:26.121358,-80.1461974
END:VEVENT
BEGIN:VTIMEZONE
TZID:America/New_York
X-LIC-LOCATION:America/New_York
BEGIN:DAYLIGHT
DTSTART:20190310T030000
TZOFFSETFROM:-0500
TZOFFSETTO:-0400
TZNAME:EDT
END:DAYLIGHT
END:VTIMEZONE
END:VCALENDAR