BEGIN:VCALENDAR
VERSION:2.0
PRODID:-//wp-events-plugin.com//7.2.3.1//EN
TZID:America/New_York
X-WR-TIMEZONE:America/New_York
BEGIN:VEVENT
UID:87@jointherevolution.net
DTSTART;TZID=America/New_York:20190316T183000
DTEND;TZID=America/New_York:20190316T230000
DTSTAMP:20181213T165944Z
URL:https://www.jointherevolution.net/concerts/trevor-hall/
SUMMARY:Trevor Hall
DESCRIPTION:Trevor Hall’s music – an eclectic mix of acoustic rock\, re
 ggae and Sanskrit chanting – echo with the names and teachings of divini
 ties\, while maintaining an incredibly and refreshingly universal message.
  While on the road\, Trevor sees the stage as his moving temple\, a place 
 where he can share in the experience of his spiritual journey with his aud
 ience. Trevor’s annual trips to India also continue to serve as a source
  of creativity and motivation for his music. The precious lessons and expe
 riences that he has harvested from his journeys East have moved Trevor to 
 return a service to those whom have colored his music and his life so beau
 tifully. Trevor uses donations collected at his live shows to help support
  an ashram in Allahabad\, India\, the home of his Guru\, where underprivil
 eged and orphaned boys and girls are given the chance at a better life and
  a traditional Vedic education.\n\nHis latest album\, KALA\, written in Ha
 waii and recorded in LA\, was released August 21\, 2015. It debuted at #2 
 on the iTunes singer/songwriter chart. KALA marks the final chapter in a t
 rilogy that chronicles Trevor’s spiritual and musical journey over the p
 ast few years. “It’s a graceful amalgam of styles by a musician who lo
 ves to embrace the music of the world.” (Popmatters)
ATTACH;FMTTYPE=image/jpeg:https://www.jointherevolution.net/wp-content/upl
 oads/2018/12/Trevor-Hall-Local.jpg
CATEGORIES:All Ages,Concerts
LOCATION:Revolution Live\, 100 SW 3rd Ave.\, Fort Lauderdale\, FL\, 33312\,
  United States
GEO:26.121358;-80.1461974
X-APPLE-STRUCTURED-LOCATION;VALUE=URI;X-ADDRESS=100 SW 3rd Ave.\, Fort Laud
 erdale\, FL\, 33312\, United States;X-APPLE-RADIUS=100;X-TITLE=Revolution 
 Live:geo:26.121358,-80.1461974
END:VEVENT
BEGIN:VTIMEZONE
TZID:America/New_York
X-LIC-LOCATION:America/New_York
BEGIN:DAYLIGHT
DTSTART:20190310T030000
TZOFFSETFROM:-0500
TZOFFSETTO:-0400
TZNAME:EDT
END:DAYLIGHT
END:VTIMEZONE
END:VCALENDAR