BEGIN:VCALENDAR
VERSION:2.0
PRODID:-//wp-events-plugin.com//7.2.3.1//EN
TZID:America/New_York
X-WR-TIMEZONE:America/New_York
BEGIN:VEVENT
UID:421@jointherevolution.net
DTSTART;TZID=America/New_York:20230204T223000
DTEND;TZID=America/New_York:20230205T020000
DTSTAMP:20230110T023859Z
URL:https://www.jointherevolution.net/concerts/unlimited-devotion-the-afte
 r-party/
SUMMARY:Unlimited Devotion The After Party
DESCRIPTION:Unlimited Devotion The After Party will be performing at Revolu
 tion Live on February 4th. This event is All Ages. Doors open at 10:30 pm.
  Show starts at 12 am. All support acts are subject to change without noti
 ce.\n\nThis event is 18+.
CATEGORIES:18+,Concerts
LOCATION:Revolution Live\, 100 SW 3rd Ave.\, Fort Lauderdale\, FL\, 33312\,
  United States
GEO:26.121358;-80.1461974
X-APPLE-STRUCTURED-LOCATION;VALUE=URI;X-ADDRESS=100 SW 3rd Ave.\, Fort Laud
 erdale\, FL\, 33312\, United States;X-APPLE-RADIUS=100;X-TITLE=Revolution 
 Live:geo:26.121358,-80.1461974
END:VEVENT
BEGIN:VTIMEZONE
TZID:America/New_York
X-LIC-LOCATION:America/New_York
BEGIN:STANDARD
DTSTART:20221106T010000
TZOFFSETFROM:-0400
TZOFFSETTO:-0500
TZNAME:EST
END:STANDARD
END:VTIMEZONE
END:VCALENDAR